BEGIN:VCALENDAR
VERSION:2.0
PRODID:-//Westminster Classical Christian Academy - ECPv6.15.20//NONSGML v1.0//EN
CALSCALE:GREGORIAN
METHOD:PUBLISH
X-ORIGINAL-URL:https://westminsterclassical.ca
X-WR-CALDESC:Events for Westminster Classical Christian Academy
REFRESH-INTERVAL;VALUE=DURATION:PT1H
X-Robots-Tag:noindex
X-PUBLISHED-TTL:PT1H
BEGIN:VTIMEZONE
TZID:America/Toronto
BEGIN:DAYLIGHT
TZOFFSETFROM:-0500
TZOFFSETTO:-0400
TZNAME:EDT
DTSTART:20230312T070000
END:DAYLIGHT
BEGIN:STANDARD
TZOFFSETFROM:-0400
TZOFFSETTO:-0500
TZNAME:EST
DTSTART:20231105T060000
END:STANDARD
BEGIN:DAYLIGHT
TZOFFSETFROM:-0500
TZOFFSETTO:-0400
TZNAME:EDT
DTSTART:20240310T070000
END:DAYLIGHT
BEGIN:STANDARD
TZOFFSETFROM:-0400
TZOFFSETTO:-0500
TZNAME:EST
DTSTART:20241103T060000
END:STANDARD
BEGIN:DAYLIGHT
TZOFFSETFROM:-0500
TZOFFSETTO:-0400
TZNAME:EDT
DTSTART:20250309T070000
END:DAYLIGHT
BEGIN:STANDARD
TZOFFSETFROM:-0400
TZOFFSETTO:-0500
TZNAME:EST
DTSTART:20251102T060000
END:STANDARD
END:VTIMEZONE
BEGIN:VEVENT
DTSTART;TZID=America/Toronto:20241127T080000
DTEND;TZID=America/Toronto:20241203T170000
DTSTAMP:20260425T073343
CREATED:20241127T162511Z
LAST-MODIFIED:20241129T171755Z
UID:3726-1732694400-1733245200@westminsterclassical.ca
SUMMARY:Giving Tuesday
DESCRIPTION:You know that feeling you get from doing something kind – even something small – only to find out your simple action meant a lot more than you thought? We don’t always get to see the immediate impact of our acts of generosity\, but when we do\, there’s nothing else like it. \nToday\, we invite you to make a small gesture with BIG potential: Donate to our Giving Tuesday campaign\, and help shape the culture of our city! By supporting our school\, you are helping children from all over the city reach for something better: Academic excellence\, love of God\, and service to the community. \nHelp us meet our goal\, and be part of something big. Make your tax deductible donation to WCCA today! \nClick here to see our Giving Tuesday campaign
URL:https://westminsterclassical.ca/event/giving-tuesday/
LOCATION:Online
CATEGORIES:School Fundraisers
ATTACH;FMTTYPE=image/png:https://westminsterclassical.ca/wp2017/wp-content/uploads/2024/11/Untitled-design-2.png
ORGANIZER;CN="WCCA":MAILTO:office@westminsterclassical.ca
END:VEVENT
BEGIN:VEVENT
DTSTART;TZID=America/Toronto:20241017T090000
DTEND;TZID=America/Toronto:20241017T103000
DTSTAMP:20260425T073343
CREATED:20241007T134851Z
LAST-MODIFIED:20241007T134851Z
UID:3652-1729155600-1729161000@westminsterclassical.ca
SUMMARY:Fundraising Committee Meeting Thursday\, October 17
DESCRIPTION:Want to get involved at WCCA? Be a part of the committee that raises funds so our school can continue to flourish! The Fundraising Committee meeting on Thursday\, October 17 at 8:45 AM at 9 Hewitt Avenue\, in the Prayer Room. All are welcome to join – no experience necessary. In our first meeting\, we will discuss what the Fundraising Committee does and outline the 3 major fundraising events of the year.
URL:https://westminsterclassical.ca/event/fundraising-committee-meeting-thursday-october-17/
LOCATION:Prayer Room\, 9 Hewitt Ave\, 9 Hewitt Ave.\, Toronto\, Ontario\, M6R 1Y4\, Canada
CATEGORIES:Meetings
ATTACH;FMTTYPE=image/png:https://westminsterclassical.ca/wp2017/wp-content/uploads/2024/10/volunteer-1326758_640.png
END:VEVENT
BEGIN:VEVENT
DTSTART;TZID=America/Toronto:20241010T153000
DTEND;TZID=America/Toronto:20241010T163000
DTSTAMP:20260425T073343
CREATED:20241003T155114Z
LAST-MODIFIED:20241007T133641Z
UID:3644-1728574200-1728577800@westminsterclassical.ca
SUMMARY:Thanksgiving Fundraiser
DESCRIPTION:Help send the Grade 7/8 class to Ottawa next year while enjoying wonderful Fall treats! Our first fundraiser of the year will feature tasty seasonal goodies and raffles\, all in support of the Grade 7/8 class trip. Join us at dismissal in the parking lot at 9 Hewitt Avenue to enjoy apple cider\, freshly baked cookies\, and a chance to win pies and lovely fall wreaths made by the 7/8s. \nTo purchase raffle tickets and goodies in advance\, please visit our Zeffy page here:  https://www.zeffy.com/ticketing/eecfd4d2-c90a-49f6-a93c-b83e25c89c2b
URL:https://westminsterclassical.ca/event/thanksgiving-fundraiser/
LOCATION:Parking Lot\, 9 Hewitt Ave\, 9 Hewitt Ave.\, Toronto\, Ontario\, M6R 1Y4\, Canada
ATTACH;FMTTYPE=image/jpeg:https://westminsterclassical.ca/wp2017/wp-content/uploads/2024/10/pumpkin-3698130_640.jpg
ORGANIZER;CN="WCCA":MAILTO:office@westminsterclassical.ca
END:VEVENT
BEGIN:VEVENT
DTSTART;TZID=America/Toronto:20240926T183000
DTEND;TZID=America/Toronto:20240926T203000
DTSTAMP:20260425T073343
CREATED:20240826T193628Z
LAST-MODIFIED:20240904T134459Z
UID:3613-1727375400-1727382600@westminsterclassical.ca
SUMMARY:Vision (Curriculum) Night
DESCRIPTION:Each year we set aside one evening to reflect upon the WCCA curriculum and vision\, and to learn more about the philosophy of life and learning at the heart of WCCA from our staff and special guest speakers. This is an important night not to miss. Please plan to come\, and schedule a babysitter for your children for this evening. Refreshments will be provided.
URL:https://westminsterclassical.ca/event/vision-curriculum-night/
LOCATION:WCCA Fellowship Hall\, 9 Hewitt Ave.\, Toronto\, Ontario\, M6R 1Y4\, Canada
ATTACH;FMTTYPE=image/png:https://westminsterclassical.ca/wp2017/wp-content/uploads/2024/08/Curriculum-Night-Flyer-1.png
ORGANIZER;CN="WCCA":MAILTO:office@westminsterclassical.ca
END:VEVENT
BEGIN:VEVENT
DTSTART;TZID=America/Toronto:20240924T080000
DTEND;TZID=America/Toronto:20240924T130000
DTSTAMP:20260425T073343
CREATED:20240821T021317Z
LAST-MODIFIED:20240930T142249Z
UID:3589-1727164800-1727182800@westminsterclassical.ca
SUMMARY:3rd Annual WCCA Golf Tournament
DESCRIPTION:The WCCA Golf Classic is a great opportunity to enjoy fellowship\, friendly competition\, a tasty lunch and\, of course\, 18 holes of golf. \nThe goal for the 3rd Annual WCCA Golf Tournament is expansion. Last year the event had 56 players and raised about $16\,000 for the school. This year we have taken a leap of faith and committed to a 72 player shotgun start! We are asking everyone to invite all your friends and family to join us. This year\, all of your donations will be allocated to replacing the gym floor at our new second location at Olivet Baptist Church\, which will house our Upper School grades. Thank you in advance for meeting the practical needs of the school\, your generous donations are critical to our continued growth. \nUpdate 9/30:  Initial estimates are that our fundraising efforts will raise about $8500 for the school. \nLeaderboard:\nThis year we had a tie at the top of the leaderboard at -6.  Given the rainy conditions\, these scores were quite impressive.  Please join me in congratulating the Koerssen and Hertz groups on their victory.\n\nT1 Jordan Koerssen\, Mike Kooy\, Derek Biersteker\, Owen Ufkes -6\nT1 Danny Hertz\, Rob Hoy\, Eric Flowers\, Tom Hiebert -6\n3 Merv Simpson\, Dave Noakes\, Paul Simpson\, Fred Buehler -5\n\nContest Winners:\nClosest to the Pin Jordan Koerssen\nLongest Drive Derek Biersteker\nPutting Contest Alex Bloomfield\, Curtis Wiens
URL:https://westminsterclassical.ca/event/golf-tournament-2024/
LOCATION:Richmond Hill Golf Club\, 8755 Bathurst Street\, Richmond Hill\, ON\, Canada
ATTACH;FMTTYPE=image/png:https://westminsterclassical.ca/wp2017/wp-content/uploads/2024/05/WCCA-Golf-Tournament-2.png
ORGANIZER;CN="Curtis Wiens":MAILTO:wiens.cn@gmail.com
END:VEVENT
BEGIN:VEVENT
DTSTART;TZID=America/Toronto:20240912T160000
DTEND;TZID=America/Toronto:20240912T180000
DTSTAMP:20260425T073343
CREATED:20240826T192122Z
LAST-MODIFIED:20240913T170029Z
UID:3602-1726156800-1726164000@westminsterclassical.ca
SUMMARY:Welcome Back to School Picnic
DESCRIPTION:WCCA students and parents had a wonderful time celebrating the start of the school year\, and coming together again as a school family at High Park! \n  \n  \n 
URL:https://westminsterclassical.ca/event/back-to-school-picnic/
LOCATION:High Park\, 185 Spring Rd\, Toronto\, ON\, Canada
ATTACH;FMTTYPE=image/jpeg:https://westminsterclassical.ca/wp2017/wp-content/uploads/2024/08/IMG_5502-small.jpg
ORGANIZER;CN="WCCA":MAILTO:office@westminsterclassical.ca
END:VEVENT
END:VCALENDAR