BEGIN:VCALENDAR
VERSION:2.0
PRODID:-//Westminster Classical Christian Academy - ECPv6.15.20//NONSGML v1.0//EN
CALSCALE:GREGORIAN
METHOD:PUBLISH
X-ORIGINAL-URL:https://westminsterclassical.ca
X-WR-CALDESC:Events for Westminster Classical Christian Academy
REFRESH-INTERVAL;VALUE=DURATION:PT1H
X-Robots-Tag:noindex
X-PUBLISHED-TTL:PT1H
BEGIN:VTIMEZONE
TZID:America/Toronto
BEGIN:DAYLIGHT
TZOFFSETFROM:-0500
TZOFFSETTO:-0400
TZNAME:EDT
DTSTART:20230312T070000
END:DAYLIGHT
BEGIN:STANDARD
TZOFFSETFROM:-0400
TZOFFSETTO:-0500
TZNAME:EST
DTSTART:20231105T060000
END:STANDARD
BEGIN:DAYLIGHT
TZOFFSETFROM:-0500
TZOFFSETTO:-0400
TZNAME:EDT
DTSTART:20240310T070000
END:DAYLIGHT
BEGIN:STANDARD
TZOFFSETFROM:-0400
TZOFFSETTO:-0500
TZNAME:EST
DTSTART:20241103T060000
END:STANDARD
BEGIN:DAYLIGHT
TZOFFSETFROM:-0500
TZOFFSETTO:-0400
TZNAME:EDT
DTSTART:20250309T070000
END:DAYLIGHT
BEGIN:STANDARD
TZOFFSETFROM:-0400
TZOFFSETTO:-0500
TZNAME:EST
DTSTART:20251102T060000
END:STANDARD
BEGIN:DAYLIGHT
TZOFFSETFROM:-0500
TZOFFSETTO:-0400
TZNAME:EDT
DTSTART:20260308T070000
END:DAYLIGHT
BEGIN:STANDARD
TZOFFSETFROM:-0400
TZOFFSETTO:-0500
TZNAME:EST
DTSTART:20261101T060000
END:STANDARD
BEGIN:DAYLIGHT
TZOFFSETFROM:-0500
TZOFFSETTO:-0400
TZNAME:EDT
DTSTART:20270314T070000
END:DAYLIGHT
BEGIN:STANDARD
TZOFFSETFROM:-0400
TZOFFSETTO:-0500
TZNAME:EST
DTSTART:20271107T060000
END:STANDARD
END:VTIMEZONE
BEGIN:VEVENT
DTSTART;VALUE=DATE:20260119
DTEND;VALUE=DATE:20260216
DTSTAMP:20260425T100912
CREATED:20260114T202629Z
LAST-MODIFIED:20260114T203406Z
UID:4546-1768780800-1771199999@westminsterclassical.ca
SUMMARY:Read-a-thon Fundraiser
DESCRIPTION:
URL:https://westminsterclassical.ca/event/read-a-thon-fundraiser/
LOCATION:Ontario
CATEGORIES:School Fundraisers
ATTACH;FMTTYPE=image/jpeg:https://westminsterclassical.ca/wp2017/wp-content/uploads/2026/01/Westminster-Classical-Christian-Academy-6-scaled.jpg
ORGANIZER;CN="WCCA":MAILTO:office@westminsterclassical.ca
END:VEVENT
BEGIN:VEVENT
DTSTART;TZID=America/Toronto:20251127T183000
DTEND;TZID=America/Toronto:20251127T200000
DTSTAMP:20260425T100912
CREATED:20251011T200822Z
LAST-MODIFIED:20251030T154338Z
UID:4309-1764268200-1764273600@westminsterclassical.ca
SUMMARY:The Wind in the Willows
DESCRIPTION:Experience The Wind in the Willows Live On Stage. \nDiscover the enchanting world of The Wind in the Willows in this delightful stage adaptation of Kenneth Grahame’s classic children’s novel. Adapted and directed by Michael Ranieri\, this family-friendly theatre production brings to life the adventures of Mole\, Rat\, Badger\, and the unforgettable Mr. Toad. Perfect for audiences of all ages\, this live performance blends humour\, heart\, and timeless storytelling. \nDon’t miss this charming theatrical event based on one of Britain’s most beloved literary works\, performed by our very own students!
URL:https://westminsterclassical.ca/event/the-wind-in-the-willows/
LOCATION:9 Hewitt Ave\, Sanctuary\, 9 Hewitt Ave.\, Toronto\, Ontario\, M6R 1Y4\, Canada
CATEGORIES:Performances,School Fundraisers
ATTACH;FMTTYPE=image/jpeg:https://westminsterclassical.ca/wp2017/wp-content/uploads/2025/10/Wind-in-the-Willows-poster-1-e1761838938880.jpg
ORGANIZER;CN="WCCA":MAILTO:office@westminsterclassical.ca
END:VEVENT
BEGIN:VEVENT
DTSTART;VALUE=DATE:20251031
DTEND;VALUE=DATE:20251126
DTSTAMP:20260425T100912
CREATED:20251029T195724Z
LAST-MODIFIED:20251030T153408Z
UID:3670-1761868800-1764115199@westminsterclassical.ca
SUMMARY:Annual Poinsettia Fundraiser
DESCRIPTION:For the past several years\, WCCA has partnered with Bradford Greenhouses to procure the freshest\, most beautiful and vibrant poinsettias at a great value\, to help you get ready for the holidays! \nPlease consider buying poinsettias not just for your own home\, but as a gift to bless those within your reach… including friends\, neighbours\, coworkers\, grandparents\, churches\, condominium managers\, and those who are shut-in or vulnerable. Please also take a moment to share this event with those who might wish to support us. Proceeds for this fundraiser will go towards the Grade 7/8 year-end class trip. \nTo have Poinsettias by the start of Advent\, please place your order by Monday\, November 17th\, for EARLY DELIVERY to Westminster Chapel\, 9 Hewitt Avenue\, on Tuesday\, November 25th. For LATER DELIVERY to Westminster Chapel\, 9 Hewitt Avenue on Monday\, December 9th\, please place your order by Tuesday\, November 25th. \nPlease scan the QR Code above to securely place your order. You can also make a donation without purchasing poinsettias\, or send an e-transfer and put “Poinsettia Fundraiser” in the message field to pay for your poinsettias.
URL:https://westminsterclassical.ca/event/annual-poinsettia-fundraiser/
LOCATION:Online
CATEGORIES:School Fundraisers
ATTACH;FMTTYPE=image/jpeg:https://westminsterclassical.ca/wp2017/wp-content/uploads/2025/10/Poinsettia-Fundraiser-3-scaled.jpg
ORGANIZER;CN="WCCA":MAILTO:office@westminsterclassical.ca
END:VEVENT
BEGIN:VEVENT
DTSTART;TZID=America/Toronto:20251002T090000
DTEND;TZID=America/Toronto:20251002T130000
DTSTAMP:20260425T100912
CREATED:20250526T140005Z
LAST-MODIFIED:20250610T182751Z
UID:4079-1759395600-1759410000@westminsterclassical.ca
SUMMARY:4th Annual WCCA Golf Tournament
DESCRIPTION:Experienced golfer? Total beginner? Either way\, come hit the links with us in support of Classical Christian Education and have a great time for a great cause! Form your own teams (organizers will help when needed!) and enjoy fellowship\, lunch and sportsmanship.  Your ticket includes 18 holes of golf and a catered meal. \nSave the date and lock in now – you can fill up your foursomes and make separate payment once your space is reserved! Click this link by the deadline of September 8th to register securely online.
URL:https://westminsterclassical.ca/event/4th-annual-wcca-golf-tournament/
LOCATION:Richmond Hill Golf Club\, 8755 Bathurst Street\, Richmond Hill\, ON\, Canada
CATEGORIES:Festivals,School Fundraisers
ATTACH;FMTTYPE=image/png:https://westminsterclassical.ca/wp2017/wp-content/uploads/2025/05/Golf-Tournament-2025-Graphic.png
ORGANIZER;CN="Curtis Wiens":MAILTO:wiens.cn@gmail.com
END:VEVENT
BEGIN:VEVENT
DTSTART;TZID=America/Toronto:20250425T183000
DTEND;TZID=America/Toronto:20250425T210000
DTSTAMP:20260425T100912
CREATED:20250228T181555Z
LAST-MODIFIED:20250408T180803Z
UID:3956-1745605800-1745614800@westminsterclassical.ca
SUMMARY:11th Annual Spring Banquet
DESCRIPTION:https://westminsterclassical.ca/wp2017/wp-content/uploads/2025/02/Spring-Banquet-Vid-for-Event-Page.mp4\n  \nTickets for our 11th Annual Spring Banquet are on sale now at westminsterclassical.ca/springbanquet. This is a lovely and uplifting night out\, and it’s our largest fundraiser of the year in support of Classical Christian education. \nThe Early Bird ticket deadline for special pricing is April 3rd\, and the final date to purchase tickets is April 16th. \nWe look forward to seeing you there!
URL:https://westminsterclassical.ca/event/11th-annual-spring-banquet/
LOCATION:St. Paul’s Bloor Street Anglican Church\, 227 Bloor St. E.\, Toronto\, Ontario\, Canada
CATEGORIES:School Fundraisers
ATTACH;FMTTYPE=image/jpeg:https://westminsterclassical.ca/wp2017/wp-content/uploads/2025/02/Spring-Banquet-Draft6-Mar.5.2025_Page_2-small.jpg
ORGANIZER;CN="WCCA":MAILTO:office@westminsterclassical.ca
END:VEVENT
BEGIN:VEVENT
DTSTART;TZID=America/Toronto:20250213T143000
DTEND;TZID=America/Toronto:20250213T163000
DTSTAMP:20260425T100913
CREATED:20250114T150557Z
LAST-MODIFIED:20250204T144525Z
UID:3883-1739457000-1739464200@westminsterclassical.ca
SUMMARY:WCCA Annual Skate-A-Thon
DESCRIPTION:https://westminsterclassical.ca/wp2017/wp-content/uploads/2025/01/Skate-a-thon-Video-for-Event-Page-1.mp4\nThe Skate-a-thon is the main student-led fundraising event of the year.  We ask ALL students to be involved in raising money! \nEvent Details \n\nLocation: McCormick Arena (179 Brock Ave. Toronto) \nDate: Thursday\, February 13\, 2025\nEarly Dismissal: All students will be dismissed to their parents promptly at 2:00 PM. \nParents will need to take their children to the arena. \nWe have access to the ice starting at 2:30 PM. The event will officially end at 4:30 PM.\nWe will enjoy a time of fellowship with coffee\, hot chocolate\, and Timbits at the arena after students are finished skating.\nThursday\, February 13th is a Free Dress Day. \nStudents must wear skates and helmets on the ice. (There is no skate rental at the arena)\nIt is recommended for younger children to wear snow pants or heavier clothing for warmth and to soften falls.\n\n  \nFundraising Goal & Pledge Forms \n\nOur fundraising goal this year is $20\,000. \nWe ask that each family try to raise at least $300 to meet our goal.\nStudents are encouraged to reach out directly to friends and family to ask for their sponsorship. Please keep track of your sponsors’ information on the provided pledge form.\nStudents will not be sponsored per lap. Sponsors should simply donate a total amount of money.\nDonations over $40 will receive a tax receipt. \n\n  \nWant to Support the Skate-A-Thon Directly? \nPlease send an e-transfer to business.admin@westminsterclassical.ca and put ‘Skate-a-Thon” plus the family’s name you’d like to associate your donation with (if applicable) in the memo line.\n \nThank you for your support. See you at the rink\, WCCA families!
URL:https://westminsterclassical.ca/event/wcca-annual-skate-a-thon/
LOCATION:McCormick Arena\, 179 Brock Ave\, Toronto\, Canada
CATEGORIES:Festivals,School Fundraisers
ORGANIZER;CN="WCCA":MAILTO:office@westminsterclassical.ca
END:VEVENT
BEGIN:VEVENT
DTSTART;TZID=America/Toronto:20241209T153000
DTEND;TZID=America/Toronto:20241209T163000
DTSTAMP:20260425T100913
CREATED:20241129T172627Z
LAST-MODIFIED:20241129T172627Z
UID:3733-1733758200-1733761800@westminsterclassical.ca
SUMMARY:Grade 7-8 Bake Sale
DESCRIPTION:Help send the Grade 7/8 class to Ottawa next year while enjoying wonderful Christmas treats! \nOur final fundraiser of the year will feature tasty seasonal baked goods and raffles\, all in support of the Grade 7/8 class trip. \nJoin us at dismissal in the parking lot at 9 Hewitt Avenue to enjoy hot chocolate\, sweet treats\, and a chance to win various other items. \nPurchase food and beverage and raffle tickets here.
URL:https://westminsterclassical.ca/event/grade-7-8-bake-sale/
LOCATION:Parking Lot\, 9 Hewitt Ave\, 9 Hewitt Ave.\, Toronto\, Ontario\, M6R 1Y4\, Canada
CATEGORIES:School Fundraisers
ATTACH;FMTTYPE=image/jpeg:https://westminsterclassical.ca/wp2017/wp-content/uploads/2024/11/cake-1914463_640.jpg
ORGANIZER;CN="WCCA":MAILTO:office@westminsterclassical.ca
END:VEVENT
BEGIN:VEVENT
DTSTART;TZID=America/Toronto:20241202T090000
DTEND;TZID=America/Toronto:20241209T150000
DTSTAMP:20260425T100913
CREATED:20241121T140702Z
LAST-MODIFIED:20241121T140702Z
UID:3718-1733130000-1733756400@westminsterclassical.ca
SUMMARY:Annual Advent Food Drive
DESCRIPTION:Every year the Grade 5 and 6 classes at WCCA spearhead a school-wide food drive in support of our very own Westminster Chapel Food Bank! Last year\, we donated over 700 high-demand food items such as canned fish\, vegetables and beans\, peanut butter\, cereals\, pasta\, baby formula\, and other non-perishable foods to help those in need in the heart of Toronto. We welcome community members to participate by dropping off their non-perishable food bank items to the side door (ring doorbell beside playground) Monday to Friday\, 9 a.m. to 3 p.m.\, for the duration of the food drive. Thank you so much for helping us reach this year’s goal of 600 food items!
URL:https://westminsterclassical.ca/event/annual-advent-food-drive/
LOCATION:WCCA Fellowship Hall\, 9 Hewitt Ave.\, Toronto\, Ontario\, M6R 1Y4\, Canada
CATEGORIES:School Fundraisers
ATTACH;FMTTYPE=image/png:https://westminsterclassical.ca/wp2017/wp-content/uploads/2024/11/2024-Food-Drive-Event-Poster-1.png
ORGANIZER;CN="WCCA":MAILTO:office@westminsterclassical.ca
END:VEVENT
BEGIN:VEVENT
DTSTART;TZID=America/Toronto:20241127T080000
DTEND;TZID=America/Toronto:20241203T170000
DTSTAMP:20260425T100913
CREATED:20241127T162511Z
LAST-MODIFIED:20241129T171755Z
UID:3726-1732694400-1733245200@westminsterclassical.ca
SUMMARY:Giving Tuesday
DESCRIPTION:You know that feeling you get from doing something kind – even something small – only to find out your simple action meant a lot more than you thought? We don’t always get to see the immediate impact of our acts of generosity\, but when we do\, there’s nothing else like it. \nToday\, we invite you to make a small gesture with BIG potential: Donate to our Giving Tuesday campaign\, and help shape the culture of our city! By supporting our school\, you are helping children from all over the city reach for something better: Academic excellence\, love of God\, and service to the community. \nHelp us meet our goal\, and be part of something big. Make your tax deductible donation to WCCA today! \nClick here to see our Giving Tuesday campaign
URL:https://westminsterclassical.ca/event/giving-tuesday/
LOCATION:Online
CATEGORIES:School Fundraisers
ATTACH;FMTTYPE=image/png:https://westminsterclassical.ca/wp2017/wp-content/uploads/2024/11/Untitled-design-2.png
ORGANIZER;CN="WCCA":MAILTO:office@westminsterclassical.ca
END:VEVENT
END:VCALENDAR