BEGIN:VCALENDAR
VERSION:2.0
PRODID:-//Westminster Classical Christian Academy - ECPv6.15.20//NONSGML v1.0//EN
CALSCALE:GREGORIAN
METHOD:PUBLISH
X-ORIGINAL-URL:https://westminsterclassical.ca
X-WR-CALDESC:Events for Westminster Classical Christian Academy
REFRESH-INTERVAL;VALUE=DURATION:PT1H
X-Robots-Tag:noindex
X-PUBLISHED-TTL:PT1H
BEGIN:VTIMEZONE
TZID:America/Toronto
BEGIN:DAYLIGHT
TZOFFSETFROM:-0500
TZOFFSETTO:-0400
TZNAME:EDT
DTSTART:20230312T070000
END:DAYLIGHT
BEGIN:STANDARD
TZOFFSETFROM:-0400
TZOFFSETTO:-0500
TZNAME:EST
DTSTART:20231105T060000
END:STANDARD
BEGIN:DAYLIGHT
TZOFFSETFROM:-0500
TZOFFSETTO:-0400
TZNAME:EDT
DTSTART:20240310T070000
END:DAYLIGHT
BEGIN:STANDARD
TZOFFSETFROM:-0400
TZOFFSETTO:-0500
TZNAME:EST
DTSTART:20241103T060000
END:STANDARD
BEGIN:DAYLIGHT
TZOFFSETFROM:-0500
TZOFFSETTO:-0400
TZNAME:EDT
DTSTART:20250309T070000
END:DAYLIGHT
BEGIN:STANDARD
TZOFFSETFROM:-0400
TZOFFSETTO:-0500
TZNAME:EST
DTSTART:20251102T060000
END:STANDARD
BEGIN:DAYLIGHT
TZOFFSETFROM:-0500
TZOFFSETTO:-0400
TZNAME:EDT
DTSTART:20260308T070000
END:DAYLIGHT
BEGIN:STANDARD
TZOFFSETFROM:-0400
TZOFFSETTO:-0500
TZNAME:EST
DTSTART:20261101T060000
END:STANDARD
END:VTIMEZONE
BEGIN:VEVENT
DTSTART;TZID=America/Toronto:20251127T183000
DTEND;TZID=America/Toronto:20251127T200000
DTSTAMP:20260425T093527
CREATED:20251011T200822Z
LAST-MODIFIED:20251030T154338Z
UID:4309-1764268200-1764273600@westminsterclassical.ca
SUMMARY:The Wind in the Willows
DESCRIPTION:Experience The Wind in the Willows Live On Stage. \nDiscover the enchanting world of The Wind in the Willows in this delightful stage adaptation of Kenneth Grahame’s classic children’s novel. Adapted and directed by Michael Ranieri\, this family-friendly theatre production brings to life the adventures of Mole\, Rat\, Badger\, and the unforgettable Mr. Toad. Perfect for audiences of all ages\, this live performance blends humour\, heart\, and timeless storytelling. \nDon’t miss this charming theatrical event based on one of Britain’s most beloved literary works\, performed by our very own students!
URL:https://westminsterclassical.ca/event/the-wind-in-the-willows/
LOCATION:9 Hewitt Ave\, Sanctuary\, 9 Hewitt Ave.\, Toronto\, Ontario\, M6R 1Y4\, Canada
CATEGORIES:Performances,School Fundraisers
ATTACH;FMTTYPE=image/jpeg:https://westminsterclassical.ca/wp2017/wp-content/uploads/2025/10/Wind-in-the-Willows-poster-1-e1761838938880.jpg
ORGANIZER;CN="WCCA":MAILTO:office@westminsterclassical.ca
END:VEVENT
BEGIN:VEVENT
DTSTART;TZID=America/Toronto:20250515T103000
DTEND;TZID=America/Toronto:20250515T113000
DTSTAMP:20260425T093527
CREATED:20250408T175711Z
LAST-MODIFIED:20250408T175711Z
UID:4030-1747305000-1747308600@westminsterclassical.ca
SUMMARY:Anne of Green Gables - A Children's Musical
DESCRIPTION:Rediscover the heartwarming story of Anne of Green Gables through this new and unforgettable musical adaptation of the Canadian classic. Please note there are two showtimes available: \nMatinee: Thursday\, May 15th\, 10:30 AM \nEvening: Thursday\, May 15th\, 6:30 PM \nTickets available now! Seats fill up quickly – reserve yours today.
URL:https://westminsterclassical.ca/event/anne-of-green-gables-a-childrens-musical/
LOCATION:9 Hewitt Ave\, Sanctuary\, 9 Hewitt Ave.\, Toronto\, Ontario\, M6R 1Y4\, Canada
CATEGORIES:Performances
ATTACH;FMTTYPE=image/jpeg:https://westminsterclassical.ca/wp2017/wp-content/uploads/2025/04/Anne-Promo-w-QR-small.jpg
ORGANIZER;CN="WCCA":MAILTO:office@westminsterclassical.ca
END:VEVENT
BEGIN:VEVENT
DTSTART;TZID=America/Toronto:20241219T180000
DTEND;TZID=America/Toronto:20241219T200000
DTSTAMP:20260425T093527
CREATED:20241212T191352Z
LAST-MODIFIED:20241212T191352Z
UID:3795-1734631200-1734638400@westminsterclassical.ca
SUMMARY:Christmas Concert
DESCRIPTION:Our annual Advent Celebration is here! Join us as all students at both campuses take the stage to celebrate the birth of our Saviour through scripture\, poetry and song.
URL:https://westminsterclassical.ca/event/christmas-concert/
LOCATION:9 Hewitt Ave\, Sanctuary\, 9 Hewitt Ave.\, Toronto\, Ontario\, M6R 1Y4\, Canada
CATEGORIES:Chapel,Festivals,Performances
ATTACH;FMTTYPE=image/png:https://westminsterclassical.ca/wp2017/wp-content/uploads/2024/12/Blue-Cute-Illustrated-Christmas-Carol-Songs-Event-Poster.png
ORGANIZER;CN="WCCA":MAILTO:office@westminsterclassical.ca
END:VEVENT
BEGIN:VEVENT
DTSTART;TZID=America/Toronto:20241128T183000
DTEND;TZID=America/Toronto:20241128T193000
DTSTAMP:20260425T093527
CREATED:20241024T133018Z
LAST-MODIFIED:20241025T170617Z
UID:3661-1732818600-1732822200@westminsterclassical.ca
SUMMARY:The Upper School Presents: Charles Dickens' A Christmas Carol
DESCRIPTION:Be transported to nineteenth-century London in this Upper School production of Charles Dickens’ 1843 classic\, A Christmas Carol. The play recounts Ebenezer Scrooge’s transformation from elderly miser to joyful\, grateful man after he is visited by the spirits of Christmas Past\, Present and Future. We welcome you to join us for this special event\, and invite your friends to share in the holiday magic! \nPay What You Like! Each ticket donation goes to support our drama productions. A matinee performance will also take place at 10:30 a.m. Please Register for all tickets here.
URL:https://westminsterclassical.ca/event/the-upper-school-presents-charles-dickens-a-christmas-carol/
LOCATION:9 Hewitt Ave\, Sanctuary\, 9 Hewitt Ave.\, Toronto\, Ontario\, M6R 1Y4\, Canada
CATEGORIES:Performances
ATTACH;FMTTYPE=image/jpeg:https://westminsterclassical.ca/wp2017/wp-content/uploads/2024/10/A-Christmas-Carol-poster-FINAL-white-border-small.jpg
ORGANIZER;CN="WCCA":MAILTO:office@westminsterclassical.ca
END:VEVENT
END:VCALENDAR